BEGIN:VCALENDAR
VERSION:2.0
PRODID:-//U.S. Embassy to Papua New Guinea, Solomon Islands, and Vanuatu - ECPv6.2.2.1//NONSGML v1.0//EN
CALSCALE:GREGORIAN
METHOD:PUBLISH
X-WR-CALNAME:U.S. Embassy to Papua New Guinea, Solomon Islands, and Vanuatu
X-ORIGINAL-URL:https://pg.usembassy.gov
X-WR-CALDESC:Events for U.S. Embassy to Papua New Guinea, Solomon Islands, and Vanuatu
REFRESH-INTERVAL;VALUE=DURATION:PT1H
X-Robots-Tag:noindex
X-PUBLISHED-TTL:PT1H
BEGIN:VTIMEZONE
TZID:Australia/Melbourne
BEGIN:STANDARD
TZOFFSETFROM:+1100
TZOFFSETTO:+1000
TZNAME:AEST
DTSTART:20220402T160000
END:STANDARD
BEGIN:DAYLIGHT
TZOFFSETFROM:+1000
TZOFFSETTO:+1100
TZNAME:AEDT
DTSTART:20221001T160000
END:DAYLIGHT
BEGIN:STANDARD
TZOFFSETFROM:+1100
TZOFFSETTO:+1000
TZNAME:AEST
DTSTART:20230401T160000
END:STANDARD
BEGIN:DAYLIGHT
TZOFFSETFROM:+1000
TZOFFSETTO:+1100
TZNAME:AEDT
DTSTART:20230930T160000
END:DAYLIGHT
END:VTIMEZONE
BEGIN:VEVENT
DTSTART;VALUE=DATE:20231009
DTEND;VALUE=DATE:20231010
DTSTAMP:20231111T144236
CREATED:20221110T055943Z
LAST-MODIFIED:20221110T055943Z
UID:10506-1696809600-1696895999@pg.usembassy.gov
SUMMARY:Columbus Day
DESCRIPTION:
URL:https://pg.usembassy.gov/event/columbus-day-2/
END:VEVENT
BEGIN:VEVENT
DTSTART;VALUE=DATE:20230915
DTEND;VALUE=DATE:20230916
DTSTAMP:20231111T144236
CREATED:20221110T055855Z
LAST-MODIFIED:20221110T055855Z
UID:10503-1694736000-1694822399@pg.usembassy.gov
SUMMARY:PNG Independence Day
DESCRIPTION:
URL:https://pg.usembassy.gov/event/png-independence-day-2/
END:VEVENT
BEGIN:VEVENT
DTSTART;VALUE=DATE:20230904
DTEND;VALUE=DATE:20230905
DTSTAMP:20231111T144236
CREATED:20221110T055251Z
LAST-MODIFIED:20221110T055251Z
UID:10499-1693785600-1693871999@pg.usembassy.gov
SUMMARY:Labor Day
DESCRIPTION:
URL:https://pg.usembassy.gov/event/labor-day-2/
END:VEVENT
BEGIN:VEVENT
DTSTART;VALUE=DATE:20230724
DTEND;VALUE=DATE:20230725
DTSTAMP:20231111T144236
CREATED:20221110T055152Z
LAST-MODIFIED:20221110T055152Z
UID:10496-1690156800-1690243199@pg.usembassy.gov
SUMMARY:National Remembrance Day
DESCRIPTION:
URL:https://pg.usembassy.gov/event/national-remembrance-day-2/
END:VEVENT
BEGIN:VEVENT
DTSTART;VALUE=DATE:20230704
DTEND;VALUE=DATE:20230705
DTSTAMP:20231111T144236
CREATED:20221110T055012Z
LAST-MODIFIED:20221110T055012Z
UID:10493-1688428800-1688515199@pg.usembassy.gov
SUMMARY:Independence Day
DESCRIPTION:
URL:https://pg.usembassy.gov/event/independence-day-2/
END:VEVENT
BEGIN:VEVENT
DTSTART;VALUE=DATE:20230619
DTEND;VALUE=DATE:20230620
DTSTAMP:20231111T144236
CREATED:20221110T053126Z
LAST-MODIFIED:20221110T053126Z
UID:10490-1687132800-1687219199@pg.usembassy.gov
SUMMARY:Juneteenth
DESCRIPTION:
URL:https://pg.usembassy.gov/event/juneteenth/
END:VEVENT
BEGIN:VEVENT
DTSTART;VALUE=DATE:20230612
DTEND;VALUE=DATE:20230613
DTSTAMP:20231111T144236
CREATED:20221110T053045Z
LAST-MODIFIED:20221110T053045Z
UID:10487-1686528000-1686614399@pg.usembassy.gov
SUMMARY:Queen's Birthday
DESCRIPTION:
URL:https://pg.usembassy.gov/event/queens-birthday-2/
END:VEVENT
BEGIN:VEVENT
DTSTART;VALUE=DATE:20230529
DTEND;VALUE=DATE:20230530
DTSTAMP:20231111T144236
CREATED:20221110T053001Z
LAST-MODIFIED:20221110T053001Z
UID:10484-1685318400-1685404799@pg.usembassy.gov
SUMMARY:Memorial Day
DESCRIPTION:
URL:https://pg.usembassy.gov/event/memorial-day-2/
END:VEVENT
BEGIN:VEVENT
DTSTART;VALUE=DATE:20230410
DTEND;VALUE=DATE:20230411
DTSTAMP:20231111T144236
CREATED:20221110T052917Z
LAST-MODIFIED:20221110T052917Z
UID:10481-1681084800-1681171199@pg.usembassy.gov
SUMMARY:Easter Monday
DESCRIPTION:
URL:https://pg.usembassy.gov/event/easter-monday-2/
END:VEVENT
BEGIN:VEVENT
DTSTART;VALUE=DATE:20230407
DTEND;VALUE=DATE:20230408
DTSTAMP:20231111T144236
CREATED:20221110T052831Z
LAST-MODIFIED:20221110T052831Z
UID:10478-1680825600-1680911999@pg.usembassy.gov
SUMMARY:Good Friday
DESCRIPTION:
URL:https://pg.usembassy.gov/event/good-friday-2/
END:VEVENT
BEGIN:VEVENT
DTSTART;VALUE=DATE:20230224
DTEND;VALUE=DATE:20230225
DTSTAMP:20231111T144236
CREATED:20221110T052743Z
LAST-MODIFIED:20221110T052743Z
UID:10475-1677196800-1677283199@pg.usembassy.gov
SUMMARY:National Remembrance Day of the Late First Prime Minister\, Grand Chief Hon. Sir Michael T. Somare
DESCRIPTION:
URL:https://pg.usembassy.gov/event/national-remembrance-day-of-the-late-first-prime-minister-grand-chief-hon-sir-michael-t-somare/
END:VEVENT
BEGIN:VEVENT
DTSTART;VALUE=DATE:20230220
DTEND;VALUE=DATE:20230221
DTSTAMP:20231111T144236
CREATED:20221110T052652Z
LAST-MODIFIED:20221110T052652Z
UID:10472-1676851200-1676937599@pg.usembassy.gov
SUMMARY:Presidents Day
DESCRIPTION:
URL:https://pg.usembassy.gov/event/presidents-day-2/
END:VEVENT
BEGIN:VEVENT
DTSTART;VALUE=DATE:20230116
DTEND;VALUE=DATE:20230117
DTSTAMP:20231111T144236
CREATED:20221110T052452Z
LAST-MODIFIED:20221110T052601Z
UID:10468-1673827200-1673913599@pg.usembassy.gov
SUMMARY:Martin Luther King\, Jr. Day
DESCRIPTION:
URL:https://pg.usembassy.gov/event/martin-luther-king-jr-day-2/
END:VEVENT
BEGIN:VEVENT
DTSTART;VALUE=DATE:20230102
DTEND;VALUE=DATE:20230103
DTSTAMP:20231111T144236
CREATED:20221110T052137Z
LAST-MODIFIED:20221110T052137Z
UID:10465-1672617600-1672703999@pg.usembassy.gov
SUMMARY:New Year's Day (observed)
DESCRIPTION:
URL:https://pg.usembassy.gov/event/new-years-day-observed/
END:VEVENT
BEGIN:VEVENT
DTSTART;VALUE=DATE:20221227
DTEND;VALUE=DATE:20221228
DTSTAMP:20231111T144236
CREATED:20220217T232724Z
LAST-MODIFIED:20220217T232724Z
UID:7001-1672099200-1672185599@pg.usembassy.gov
SUMMARY:Boxing Day
DESCRIPTION:
URL:https://pg.usembassy.gov/event/boxing-day/
END:VEVENT
BEGIN:VEVENT
DTSTART;VALUE=DATE:20221226
DTEND;VALUE=DATE:20221227
DTSTAMP:20231111T144236
CREATED:20220217T232652Z
LAST-MODIFIED:20220217T232652Z
UID:6999-1672012800-1672099199@pg.usembassy.gov
SUMMARY:Christmas Day (U.S. holiday observed)
DESCRIPTION:
URL:https://pg.usembassy.gov/event/christmas-day-u-s-holiday-observed/
END:VEVENT
BEGIN:VEVENT
DTSTART;VALUE=DATE:20221124
DTEND;VALUE=DATE:20221125
DTSTAMP:20231111T144236
CREATED:20220217T232618Z
LAST-MODIFIED:20220218T000203Z
UID:6996-1669248000-1669334399@pg.usembassy.gov
SUMMARY:Thanksgiving Day
DESCRIPTION:
URL:https://pg.usembassy.gov/event/thanksgiving-day/
END:VEVENT
BEGIN:VEVENT
DTSTART;VALUE=DATE:20221111
DTEND;VALUE=DATE:20221112
DTSTAMP:20231111T144236
CREATED:20220217T232551Z
LAST-MODIFIED:20220217T232551Z
UID:6993-1668124800-1668211199@pg.usembassy.gov
SUMMARY:Veterans Day
DESCRIPTION:
URL:https://pg.usembassy.gov/event/veterans-day/
END:VEVENT
BEGIN:VEVENT
DTSTART;VALUE=DATE:20221010
DTEND;VALUE=DATE:20221011
DTSTAMP:20231111T144236
CREATED:20220217T232528Z
LAST-MODIFIED:20220217T232528Z
UID:6989-1665360000-1665446399@pg.usembassy.gov
SUMMARY:Columbus Day
DESCRIPTION:
URL:https://pg.usembassy.gov/event/columbus-day/
END:VEVENT
BEGIN:VEVENT
DTSTART;VALUE=DATE:20220916
DTEND;VALUE=DATE:20220917
DTSTAMP:20231111T144236
CREATED:20220217T232513Z
LAST-MODIFIED:20220217T232513Z
UID:6988-1663286400-1663372799@pg.usembassy.gov
SUMMARY:PNG Independence Day
DESCRIPTION:
URL:https://pg.usembassy.gov/event/png-independence-day/
END:VEVENT
BEGIN:VEVENT
DTSTART;VALUE=DATE:20220905
DTEND;VALUE=DATE:20220906
DTSTAMP:20231111T144236
CREATED:20220217T232438Z
LAST-MODIFIED:20220217T232438Z
UID:6983-1662336000-1662422399@pg.usembassy.gov
SUMMARY:Labor Day
DESCRIPTION:
URL:https://pg.usembassy.gov/event/labor-day/
END:VEVENT
BEGIN:VEVENT
DTSTART;VALUE=DATE:20220826
DTEND;VALUE=DATE:20220827
DTSTAMP:20231111T144236
CREATED:20220217T232418Z
LAST-MODIFIED:20220217T232418Z
UID:6982-1661472000-1661558399@pg.usembassy.gov
SUMMARY:National Day of Repentance
DESCRIPTION:
URL:https://pg.usembassy.gov/event/national-day-of-repentance/
END:VEVENT
BEGIN:VEVENT
DTSTART;VALUE=DATE:20220723
DTEND;VALUE=DATE:20220724
DTSTAMP:20231111T144236
CREATED:20220217T232347Z
LAST-MODIFIED:20220217T232347Z
UID:6979-1658534400-1658620799@pg.usembassy.gov
SUMMARY:National Remembrance Day
DESCRIPTION:
URL:https://pg.usembassy.gov/event/national-remembrance-day/
END:VEVENT
BEGIN:VEVENT
DTSTART;VALUE=DATE:20220704
DTEND;VALUE=DATE:20220705
DTSTAMP:20231111T144236
CREATED:20220217T232323Z
LAST-MODIFIED:20220217T232323Z
UID:6976-1656892800-1656979199@pg.usembassy.gov
SUMMARY:Independence Day
DESCRIPTION:
URL:https://pg.usembassy.gov/event/independence-day/
END:VEVENT
BEGIN:VEVENT
DTSTART;VALUE=DATE:20220620
DTEND;VALUE=DATE:20220621
DTSTAMP:20231111T144236
CREATED:20220217T232254Z
LAST-MODIFIED:20220217T232254Z
UID:6971-1655683200-1655769599@pg.usembassy.gov
SUMMARY:Juneteenth National Independence Day (observed)
DESCRIPTION:
URL:https://pg.usembassy.gov/event/juneteenth-national-independence-day-observed/
END:VEVENT
BEGIN:VEVENT
DTSTART;VALUE=DATE:20220613
DTEND;VALUE=DATE:20220614
DTSTAMP:20231111T144236
CREATED:20220217T232234Z
LAST-MODIFIED:20220217T232234Z
UID:6970-1655078400-1655164799@pg.usembassy.gov
SUMMARY:Queen’s Birthday
DESCRIPTION:
URL:https://pg.usembassy.gov/event/queens-birthday/
END:VEVENT
BEGIN:VEVENT
DTSTART;VALUE=DATE:20220530
DTEND;VALUE=DATE:20220531
DTSTAMP:20231111T144236
CREATED:20220217T232203Z
LAST-MODIFIED:20220217T232203Z
UID:6967-1653868800-1653955199@pg.usembassy.gov
SUMMARY:Memorial Day
DESCRIPTION:
URL:https://pg.usembassy.gov/event/memorial-day/
END:VEVENT
BEGIN:VEVENT
DTSTART;VALUE=DATE:20220418
DTEND;VALUE=DATE:20220419
DTSTAMP:20231111T144236
CREATED:20220217T232135Z
LAST-MODIFIED:20220218T000255Z
UID:6964-1650240000-1650326399@pg.usembassy.gov
SUMMARY:Easter Monday
DESCRIPTION:
URL:https://pg.usembassy.gov/event/easter-monday/
END:VEVENT
BEGIN:VEVENT
DTSTART;VALUE=DATE:20220416
DTEND;VALUE=DATE:20220417
DTSTAMP:20231111T144236
CREATED:20220217T232021Z
LAST-MODIFIED:20220217T232021Z
UID:6962-1650067200-1650153599@pg.usembassy.gov
SUMMARY:Holy Saturday
DESCRIPTION:
URL:https://pg.usembassy.gov/event/holy-saturday/
END:VEVENT
BEGIN:VEVENT
DTSTART;VALUE=DATE:20220415
DTEND;VALUE=DATE:20220416
DTSTAMP:20231111T144236
CREATED:20220217T231948Z
LAST-MODIFIED:20220217T232112Z
UID:6959-1649980800-1650067199@pg.usembassy.gov
SUMMARY:Good Friday
DESCRIPTION:
URL:https://pg.usembassy.gov/event/good-friday/
END:VEVENT
END:VCALENDAR