BEGIN:VCALENDAR
VERSION:2.0
PRODID:-//U.S. Embassy to Papua New Guinea, Solomon Islands, and Vanuatu - ECPv6.2.2.1//NONSGML v1.0//EN
CALSCALE:GREGORIAN
METHOD:PUBLISH
X-WR-CALNAME:U.S. Embassy to Papua New Guinea, Solomon Islands, and Vanuatu
X-ORIGINAL-URL:https://pg.usembassy.gov
X-WR-CALDESC:Events for U.S. Embassy to Papua New Guinea, Solomon Islands, and Vanuatu
REFRESH-INTERVAL;VALUE=DURATION:PT1H
X-Robots-Tag:noindex
X-PUBLISHED-TTL:PT1H
BEGIN:VTIMEZONE
TZID:Australia/Melbourne
BEGIN:STANDARD
TZOFFSETFROM:+1100
TZOFFSETTO:+1000
TZNAME:AEST
DTSTART:20230401T160000
END:STANDARD
BEGIN:DAYLIGHT
TZOFFSETFROM:+1000
TZOFFSETTO:+1100
TZNAME:AEDT
DTSTART:20230930T160000
END:DAYLIGHT
END:VTIMEZONE
BEGIN:VEVENT
DTSTART;VALUE=DATE:20231226
DTEND;VALUE=DATE:20231227
DTSTAMP:20231111T142554
CREATED:20221110T062914Z
LAST-MODIFIED:20221110T062914Z
UID:10518-1703548800-1703635199@pg.usembassy.gov
SUMMARY:Boxing Day
DESCRIPTION:
URL:https://pg.usembassy.gov/event/boxing-day-2/
END:VEVENT
END:VCALENDAR